BEGIN:VCALENDAR
VERSION:2.0
PRODID:-//wp-events-plugin.com//7.2.3.1//EN
TZID:America/New_York
X-WR-TIMEZONE:America/New_York
BEGIN:VEVENT
UID:26@newgagolf.com
DTSTART;TZID=America/New_York:20210521T090000
DTEND;TZID=America/New_York:20210521T150000
DTSTAMP:20220302T195124Z
URL:https://newgagolf.com/events/4-player-scramble-3/
SUMMARY:4 Player Scramble
DESCRIPTION:FORMAT:    Step Away Scramble - All players hit tee shot. Sel
 ect a tee shot. Person whose ball is used does not hit the next shot\; oth
 er 3 players hit. Continue this format until the ball is on the green. Eve
 ryone putts. Each player’s tee shot must be used once each nine.\n\nIf y
 ou do not have a team of 4\, send your entry in with as many players as yo
 u have and we will make every effort to make up a foursome.\n\nHANDICAPS: 
 Certified as of May 11\, 2021\n\nNO REFUNDS WITHIN SEVEN DAYS OF THE TOURN
 AMENT\n\nDEFENDING CHAMPIONS:\nLow Gross: R. Andrews\, H. Harkins\, S. Kah
 ler\, M. Scatena\nLow Net: B. Baker\, M. Diefendorf\, L. Kolnick\, D. Lang
 evin\,
CATEGORIES:Tournaments
LOCATION:SCHENECTADY MUNCIPIAL GOLF\, 400 Oregon Ave\, Schenectady\, NY\, 1
 2304\, Capital\, United States
X-APPLE-STRUCTURED-LOCATION;VALUE=URI;X-ADDRESS=400 Oregon Ave\, Schenectad
 y\, NY\, 12304\, Capital\, United States;X-APPLE-RADIUS=100;X-TITLE=SCHENE
 CTADY MUNCIPIAL GOLF:geo:0,0
END:VEVENT
BEGIN:VTIMEZONE
TZID:America/New_York
X-LIC-LOCATION:America/New_York
BEGIN:DAYLIGHT
DTSTART:20210314T030000
TZOFFSETFROM:-0500
TZOFFSETTO:-0400
TZNAME:EDT
END:DAYLIGHT
END:VTIMEZONE
END:VCALENDAR