BEGIN:VCALENDAR
VERSION:2.0
PRODID:-//wp-events-plugin.com//7.2.3.1//EN
TZID:America/New_York
X-WR-TIMEZONE:America/New_York
BEGIN:VEVENT
UID:39@newgagolf.com
DTSTART;TZID=America/New_York;VALUE=DATE:20220525
DTEND;TZID=America/New_York;VALUE=DATE:20220526
DTSTAMP:20220518T112951Z
URL:https://newgagolf.com/events/4-player-scramble-4/
SUMMARY:4 Player Scramble
DESCRIPTION:FORMAT:    Step Away Scramble - All players hit tee shot. Sel
 ect a tee shot. Person whose ball is used does not hit the next shot\; oth
 er 3 players hit. Continue this format until the ball is on the green. Eve
 ryone putts. Each player’s tee shot must be used once each nine.\n\nIf y
 ou do not have a team of 4\, send your entry in with as many players as yo
 u have and we will make every effort to make up a foursome.\n\nHANDICAPS: 
 Certified within two weeks of the event\n\nNO REFUNDS WITHIN SEVEN DAYS OF
  THE TOURNAMENT\n\nDEFENDING CHAMPIONS:\nLow Gross: R. Andrews\, H. Harkin
 s\, S. Kahler\, M. Scatena (2020\, 2021)\nLow Net: MA Keeler\, K Lloyd\, K
  McLaughlin\, C McManus
CATEGORIES:Tournaments
LOCATION:WESTERN TURNPIKE GOLF COURSE\, 2350 Western Ave\, Guilderland\, NY
 \, 12084\, United States
X-APPLE-STRUCTURED-LOCATION;VALUE=URI;X-ADDRESS=2350 Western Ave\, Guilderl
 and\, NY\, 12084\, United States;X-APPLE-RADIUS=100;X-TITLE=WESTERN TURNPI
 KE GOLF COURSE:geo:0,0
END:VEVENT
BEGIN:VTIMEZONE
TZID:America/New_York
X-LIC-LOCATION:America/New_York
BEGIN:DAYLIGHT
DTSTART:20220313T030000
TZOFFSETFROM:-0500
TZOFFSETTO:-0400
TZNAME:EDT
END:DAYLIGHT
END:VTIMEZONE
END:VCALENDAR