BEGIN:VCALENDAR
VERSION:2.0
PRODID:-//wp-events-plugin.com//7.2.3.1//EN
TZID:America/New_York
X-WR-TIMEZONE:America/New_York
BEGIN:VEVENT
UID:50@newgagolf.com
DTSTART;TZID=America/New_York:20230524T090000
DTEND;TZID=America/New_York:20230524T140000
DTSTAMP:20230516T113017Z
URL:https://newgagolf.com/events/4-player-scramble-5/
SUMMARY:4-Player Scramble
DESCRIPTION:FORMAT:    Step Away Scramble - All players hit tee shot. Sel
 ect a tee shot. Person whose ball is used does not hit the next shot\; oth
 er 3 players hit. Continue this format until the ball is on the green. Eve
 ryone putts. Each player’s tee shot must be used once each nine.\n\nIf y
 ou do not have a team of 4\, send your entry in with as many players as yo
 u have and we will make every effort to make up a foursome.\n\nHANDICAPS: 
 Certified within two weeks of the event\n\nNO REFUNDS WITHIN SEVEN DAYS OF
  THE TOURNAMENT\n\nDEFENDING CHAMPIONS:\nLow Gross: R. Andrews\, H Harkins
 \, S Kahler\, M Scatena\nLow Net: C McManus\, MA Keeler\, K McLaughlin\, K
 \, Lloyd
CATEGORIES:Tournaments
LOCATION:COPAKE COUNTRY CLUB\, 44 Golf Course Rd\, Craryville\, NY\, 12521\
 , United States
X-APPLE-STRUCTURED-LOCATION;VALUE=URI;X-ADDRESS=44 Golf Course Rd\, Craryvi
 lle\, NY\, 12521\, United States;X-APPLE-RADIUS=100;X-TITLE=COPAKE COUNTRY
  CLUB:geo:0,0
END:VEVENT
BEGIN:VTIMEZONE
TZID:America/New_York
X-LIC-LOCATION:America/New_York
BEGIN:DAYLIGHT
DTSTART:20230312T030000
TZOFFSETFROM:-0500
TZOFFSETTO:-0400
TZNAME:EDT
END:DAYLIGHT
END:VTIMEZONE
END:VCALENDAR