BEGIN:VCALENDAR
VERSION:2.0
PRODID:-//wp-events-plugin.com//7.2.3.1//EN
TZID:America/New_York
X-WR-TIMEZONE:America/New_York
BEGIN:VEVENT
UID:59@newgagolf.com
DTSTART;TZID=America/New_York:20231001T100000
DTEND;TZID=America/New_York:20231001T120000
DTSTAMP:20221114T221033Z
URL:https://newgagolf.com/events/fall-annual-meeting/
SUMMARY:Fall Annual Meeting
DESCRIPTION:\n Board of Directors’ Meeting (NEWGA membership welcome)\nR
 eception and lunch to follow\n\nA nine hole golf event may follow\, weathe
 r permitting.\n
CATEGORIES:Meetings
LOCATION:THE EDISON CLUB\, 891 Riverview Rd\, Rexford\, NY\, 12148\, United
  States
X-APPLE-STRUCTURED-LOCATION;VALUE=URI;X-ADDRESS=891 Riverview Rd\, Rexford\
 , NY\, 12148\, United States;X-APPLE-RADIUS=100;X-TITLE=THE EDISON CLUB:ge
 o:0,0
END:VEVENT
BEGIN:VTIMEZONE
TZID:America/New_York
X-LIC-LOCATION:America/New_York
BEGIN:DAYLIGHT
DTSTART:20230312T030000
TZOFFSETFROM:-0500
TZOFFSETTO:-0400
TZNAME:EDT
END:DAYLIGHT
END:VTIMEZONE
END:VCALENDAR