BEGIN:VCALENDAR
VERSION:2.0
PRODID:-//wp-events-plugin.com//7.2.3.1//EN
TZID:America/New_York
X-WR-TIMEZONE:America/New_York
BEGIN:VEVENT
UID:38@newgagolf.com
DTSTART;TZID=America/New_York:20221016T103000
DTEND;TZID=America/New_York:20221016T123000
DTSTAMP:20220321T195635Z
URL:https://newgagolf.com/events/fall-meeting/
SUMMARY:Fall Meeting
DESCRIPTION:\n10:30 am Board of Directors’ Meeting (NEWGA membership wel
 come)\nReception and lunch to follow\n\nA nine hole golf event may follow\
 , weather permitting.\n
CATEGORIES:Meetings
LOCATION:ALBANY COUNTRY CLUB\, 300 Wormer Rd\, Voorheesville\, NY\, 12186\,
  United States
X-APPLE-STRUCTURED-LOCATION;VALUE=URI;X-ADDRESS=300 Wormer Rd\, Voorheesvil
 le\, NY\, 12186\, United States;X-APPLE-RADIUS=100;X-TITLE=ALBANY COUNTRY 
 CLUB:geo:0,0
END:VEVENT
BEGIN:VTIMEZONE
TZID:America/New_York
X-LIC-LOCATION:America/New_York
BEGIN:DAYLIGHT
DTSTART:20220313T030000
TZOFFSETFROM:-0500
TZOFFSETTO:-0400
TZNAME:EDT
END:DAYLIGHT
END:VTIMEZONE
END:VCALENDAR