BEGIN:VCALENDAR
VERSION:2.0
PRODID:-//wp-events-plugin.com//7.2.3.1//EN
TZID:America/New_York
X-WR-TIMEZONE:America/New_York
BEGIN:VEVENT
UID:51@newgagolf.com
DTSTART;TZID=America/New_York:20230606T090000
DTEND;TZID=America/New_York:20230606T150000
DTSTAMP:20230527T123707Z
URL:https://newgagolf.com/events/individual-stroke-play-ringers-4/
SUMMARY:Individual Stroke Play - Ringers
DESCRIPTION:FORMAT:  This is an individual stroke play event.\nEach player
  plays the same nine twice and records the\nbetter score for each hole for
  a nine hole total.\n\nHANDICAPS: Certified within two weeks of the event\
 n\nNO REFUNDS WITHIN SEVEN DAYS OF THE TOURNAMENT\n\nDEFENDING CHAMPIONS:\
 nLow Gross: Sue Kahler\nLow Net: Cindi Keeler
CATEGORIES:Tournaments
LOCATION:SARATOGA GOLF & POLO CLUB\, 301 Church St\, Saratoga Springs\, NY\
 , 12866\, United States
X-APPLE-STRUCTURED-LOCATION;VALUE=URI;X-ADDRESS=301 Church St\, Saratoga Sp
 rings\, NY\, 12866\, United States;X-APPLE-RADIUS=100;X-TITLE=SARATOGA GOL
 F & POLO CLUB:geo:0,0
END:VEVENT
BEGIN:VTIMEZONE
TZID:America/New_York
X-LIC-LOCATION:America/New_York
BEGIN:DAYLIGHT
DTSTART:20230312T030000
TZOFFSETFROM:-0500
TZOFFSETTO:-0400
TZNAME:EDT
END:DAYLIGHT
END:VTIMEZONE
END:VCALENDAR