BEGIN:VCALENDAR
VERSION:2.0
PRODID:-//wp-events-plugin.com//7.2.3.1//EN
TZID:America/New_York
X-WR-TIMEZONE:America/New_York
BEGIN:VEVENT
UID:56@newgagolf.com
DTSTART;TZID=America/New_York:20230802T091500
DTEND;TZID=America/New_York:20230802T144500
DTSTAMP:20230730T031551Z
URL:https://newgagolf.com/events/mixed-2-player-modified-chapman-scramble-
 2/
SUMMARY:Mixed 2-Player Modified Chapman Scramble
DESCRIPTION:FORMAT: Modified Chapman Scramble  NEWGA member and male guest
 .\nBoth players tee off. Partners hit each other’s ball. Select a ball a
 nd play a scramble until the ball is holed.\n\nPar 3 holes: Each player dr
 ives. Select one and scramble until holed.\n\nThrough the green\, ball may
  be placed within one club length no nearer the hole and within same condi
 tions.\n\nOn the green\, ball must be placed with in 4 inches\, no nearer 
 the hole.\n\nFLIGHTS            This event is flighted based on
  the total handicap index of the  twosome.\n\nIf a player is 70 or over 
 and has a handicap index of 18.0 or higher\, he may play from the forward 
 tees.  Please advise when registering.\n\nHANDICAP         The ha
 ndicap is based on 60% of the lower handicap index player and 40% of the h
 igher handicap index player. Carry this to one decimal place.\n\nA maximum
  handicap index difference of 10.0 is allowed. Greater index is adjusted.\
 n\nHANDICAPS: Certified within two weeks of the event\n\nNO REFUNDS WITHIN
  SEVEN DAYS OF THE TOURNAMENT\n\nDEFENDING CHAMPIONS:\nLow Gross: Kim and 
 Rick Lloyd\nLow Net: Susan and Michael Nardolillo
CATEGORIES:Tournaments
LOCATION:PINEHAVEN COUNTRY CLUB\, 1151 Siver Rd\, Guilderland\, NY\, 12084\
 , United States
X-APPLE-STRUCTURED-LOCATION;VALUE=URI;X-ADDRESS=1151 Siver Rd\, Guilderland
 \, NY\, 12084\, United States;X-APPLE-RADIUS=100;X-TITLE=PINEHAVEN COUNTRY
  CLUB:geo:0,0
END:VEVENT
BEGIN:VTIMEZONE
TZID:America/New_York
X-LIC-LOCATION:America/New_York
BEGIN:DAYLIGHT
DTSTART:20230312T030000
TZOFFSETFROM:-0500
TZOFFSETTO:-0400
TZNAME:EDT
END:DAYLIGHT
END:VTIMEZONE
END:VCALENDAR