BEGIN:VCALENDAR
VERSION:2.0
PRODID:-//wp-events-plugin.com//7.2.3.1//EN
TZID:America/New_York
X-WR-TIMEZONE:America/New_York
BEGIN:VEVENT
UID:47@newgagolf.com
DTSTART;TZID=America/New_York;VALUE=DATE:20220708
DTEND;TZID=America/New_York;VALUE=DATE:20220709
DTSTAMP:20220629T212340Z
URL:https://newgagolf.com/events/mixed-2-player-modified-chapman-scramble/
SUMMARY:Mixed 2 Player Modified Chapman Scramble
DESCRIPTION:FORMAT: Modified Chapman Scramble  NEWGA member and male guest
 .\nBoth players tee off. Partners hit each other’s ball. Select a ball a
 nd play a scramble until the ball is holed.\n\nPar 3 holes: Each player dr
 ives. Select one and scramble until holed.\n\nThrough the green\, ball may
  be placed within one club length no nearer the hole and within same condi
 tions.\n\nOn the green\, ball must be placed with in 4 inches\, no nearer 
 the hole.\n\nFLIGHTS            This event is flighted based on
  the total handicap index of the  twosome.\n\nIf a player is 70 or over 
 and has a handicap index of 18.0 or higher\, he may play from the forward 
 tees.\n\nHANDICAP         The handicap is based on 60% of the lowe
 r handicap index\n\n                           
   player and 40% of the higher handicap index player. Carry this to\n\n 
                             one decimal place.\
 n\n A maximum handicap index difference of 10.0 is allowed. Greater index
  is adjusted.\n\nHANDICAPS: Certified within two weeks of the event\n\nNO 
 REFUNDS WITHIN SEVEN DAYS OF THE TOURNAMENT\n\nDEFENDING CHAMPIONS:\nLow G
 ross: Linda Kolnick\, Zach Bowerman\nLow Net: Ann Poulin\, Joe Membrino
CATEGORIES:Tournaments
LOCATION:COBLESKILL GOLF & COUNTRY CLUB\, 2322 New York 7\, Cobleskill\, NY
 \, 12043\, United States
X-APPLE-STRUCTURED-LOCATION;VALUE=URI;X-ADDRESS=2322 New York 7\, Cobleskil
 l\, NY\, 12043\, United States;X-APPLE-RADIUS=100;X-TITLE=COBLESKILL GOLF 
 & COUNTRY CLUB:geo:0,0
END:VEVENT
BEGIN:VTIMEZONE
TZID:America/New_York
X-LIC-LOCATION:America/New_York
BEGIN:DAYLIGHT
DTSTART:20220313T030000
TZOFFSETFROM:-0500
TZOFFSETTO:-0400
TZNAME:EDT
END:DAYLIGHT
END:VTIMEZONE
END:VCALENDAR