BEGIN:VCALENDAR
VERSION:2.0
PRODID:-//wp-events-plugin.com//7.2.3.1//EN
TZID:America/New_York
X-WR-TIMEZONE:America/New_York
BEGIN:VEVENT
UID:28@newgagolf.com
DTSTART;TZID=America/New_York:20210624T075000
DTEND;TZID=America/New_York:20210624T160000
DTSTAMP:20210616T175421Z
URL:https://newgagolf.com/events/mixed-2-player-scramble-2/
SUMMARY:Mixed 2 Player Modified Chapman Scramble
DESCRIPTION:FORMAT: Modified Chapman Scramble                    
                                                  
                                                  
                                                Bot
 h players tee off. Partners hit each other’s ball. Select a ball and  
 play a scramble until the ball is holed.\n\nPar 3 holes: Each player drive
 s. Select one and scramble until holed.\n\nThrough the green\, ball may be
  placed within one club length no nearer the hole and within same conditio
 ns.\n\nOn the green\, ball must be placed with in 4 inches\, no nearer the
  hole.\n\nFLIGHTS            This event is flighted based on th
 e total handicap index of the  twosome.\n\nIf a player is 70 or over and
  has a handicap index of 18.0 or higher\, he may play from the forward tee
 s.\n\nHANDICAP         The handicap is based on 60% of the lower h
 andicap index\n\n                             
 player and 40% of the higher handicap index player. Carry this to\n\n  
                            one decimal place.\n\
 n A maximum handicap index difference of 10.0 is allowed. Greater index i
 s adjusted.\n\nHANDICAPS: Certified as of June 14\, 2021\n\nNO REFUNDS WIT
 HIN SEVEN DAYS OF THE TOURNAMENT\n\nDEFENDING CHAMPIONS:\nLow Gross: Pat M
 ayne\, Rob Helm\nLow Net: Nancy VanDuesen\, Tom Collins
CATEGORIES:Tournaments
LOCATION:LEATHERSTOCKING GOLF COURSE\, 60 Lake St\, Cooperstown\, NY\, 1332
 6\, United States
X-APPLE-STRUCTURED-LOCATION;VALUE=URI;X-ADDRESS=60 Lake St\, Cooperstown\, 
 NY\, 13326\, United States;X-APPLE-RADIUS=100;X-TITLE=LEATHERSTOCKING GOLF
  COURSE:geo:0,0
END:VEVENT
BEGIN:VTIMEZONE
TZID:America/New_York
X-LIC-LOCATION:America/New_York
BEGIN:DAYLIGHT
DTSTART:20210314T030000
TZOFFSETFROM:-0500
TZOFFSETTO:-0400
TZNAME:EDT
END:DAYLIGHT
END:VTIMEZONE
END:VCALENDAR