BEGIN:VCALENDAR
VERSION:2.0
PRODID:-//wp-events-plugin.com//7.2.3.1//EN
TZID:America/New_York
X-WR-TIMEZONE:America/New_York
BEGIN:VEVENT
UID:21@newgagolf.com
DTSTART;TZID=America/New_York:20201018T190000
DTEND;TZID=America/New_York:20201018T210000
DTSTAMP:20201002T140236Z
URL:https://newgagolf.com/events/newga-fall-annual-meeting/
SUMMARY:NEWGA Fall Annual Meeting
DESCRIPTION: Zoom meeting starting at 7 pm
CATEGORIES:Meetings
END:VEVENT
BEGIN:VTIMEZONE
TZID:America/New_York
X-LIC-LOCATION:America/New_York
BEGIN:DAYLIGHT
DTSTART:20200308T030000
TZOFFSETFROM:-0500
TZOFFSETTO:-0400
TZNAME:EDT
END:DAYLIGHT
END:VTIMEZONE
END:VCALENDAR