BEGIN:VCALENDAR
VERSION:2.0
PRODID:-//wp-events-plugin.com//7.2.3.1//EN
TZID:America/New_York
X-WR-TIMEZONE:America/New_York
BEGIN:VEVENT
UID:36@newgagolf.com
DTSTART;TZID=America/New_York:20210831T090000
DTEND;TZID=America/New_York:20210901T150000
DTSTAMP:20210824T210732Z
URL:https://newgagolf.com/events/senior-championships-2/
SUMMARY:Senior Championships
DESCRIPTION:67th ANNUAL PEGGY ENOS SENIORS’ TOURNAMENT\n\nFORMAT: 36 Hole
 \, Individual Stroke Play - Flighted by Age\n\nHANDICAPS: Certified as of 
 August 21\, 2021\n\nNO REFUNDS WITHIN SEVEN DAYS OF THE TOURNAMENT\n\nSeni
 or Champion Nan Lanahan (50-69)- Peggy Enos Memorial Plaque\nSuper Senior 
 Champion Sandy Weckter (70+)- Louise Starzenski Cup
CATEGORIES:Open Events on Home Page,Tournaments
LOCATION:COUNTRY CLUB OF TROY\, 100 Troy Country Club Road\, Troy\, NY\, 12
 180\, United States
X-APPLE-STRUCTURED-LOCATION;VALUE=URI;X-ADDRESS=100 Troy Country Club Road\
 , Troy\, NY\, 12180\, United States;X-APPLE-RADIUS=100;X-TITLE=COUNTRY CLU
 B OF TROY:geo:0,0
END:VEVENT
BEGIN:VTIMEZONE
TZID:America/New_York
X-LIC-LOCATION:America/New_York
BEGIN:DAYLIGHT
DTSTART:20210314T030000
TZOFFSETFROM:-0500
TZOFFSETTO:-0400
TZNAME:EDT
END:DAYLIGHT
END:VTIMEZONE
END:VCALENDAR