BEGIN:VCALENDAR
VERSION:2.0
PRODID:-//wp-events-plugin.com//7.2.3.1//EN
TZID:America/New_York
X-WR-TIMEZONE:America/New_York
BEGIN:VEVENT
UID:49@newgagolf.com
DTSTART;TZID=America/New_York:20230507T103000
DTEND;TZID=America/New_York:20230507T123000
DTSTAMP:20221103T192442Z
URL:https://newgagolf.com/events/spring-meeting-2/
SUMMARY:Spring Meeting
DESCRIPTION:SPRING:\nSunday\, May 7\, 2023 — Pinehaven CC - 1151 Siver Rd
 \, Guilderland\, NY    518-456-7111\n\n 
CATEGORIES:Meetings
LOCATION:PINEHAVEN COUNTRY CLUB\, 1151 Siver Rd\, Guilderland\, NY\, 12084\
 , United States
X-APPLE-STRUCTURED-LOCATION;VALUE=URI;X-ADDRESS=1151 Siver Rd\, Guilderland
 \, NY\, 12084\, United States;X-APPLE-RADIUS=100;X-TITLE=PINEHAVEN COUNTRY
  CLUB:geo:0,0
END:VEVENT
BEGIN:VTIMEZONE
TZID:America/New_York
X-LIC-LOCATION:America/New_York
BEGIN:DAYLIGHT
DTSTART:20230312T030000
TZOFFSETFROM:-0500
TZOFFSETTO:-0400
TZNAME:EDT
END:DAYLIGHT
END:VTIMEZONE
END:VCALENDAR