BEGIN:VCALENDAR
VERSION:2.0
PRODID:-//wp-events-plugin.com//7.2.3.1//EN
TZID:America/New_York
X-WR-TIMEZONE:America/New_York
BEGIN:VEVENT
UID:37@newgagolf.com
DTSTART;TZID=America/New_York:20220424T100000
DTEND;TZID=America/New_York:20220424T120000
DTSTAMP:20220310T162310Z
URL:https://newgagolf.com/events/spring-meeting/
SUMMARY:Spring Meeting
DESCRIPTION:SPRING:\nSunday\, April 24\, 2022 — Western Turnpike Golf - 2
 350 Western Ave. Guilderland\, NY 12084 (518) 456-0780\n\n10:00 - 10:30 am
 : Executive Committee meets\n\n10:30 am - 12:00 pm: Board of Directors Me
 eting (NEWGA Membership welcome)\n\n12:00 pm: Lunch off menu\n\npossible 9
  hole event to follow\n\nRSVP to me by April 15 at debdewdah@yahoo.com 
CATEGORIES:Meetings
LOCATION:WESTERN TURNPIKE GOLF COURSE\, 2350 Western Ave\, Guilderland\, NY
 \, 12084\, United States
X-APPLE-STRUCTURED-LOCATION;VALUE=URI;X-ADDRESS=2350 Western Ave\, Guilderl
 and\, NY\, 12084\, United States;X-APPLE-RADIUS=100;X-TITLE=WESTERN TURNPI
 KE GOLF COURSE:geo:0,0
END:VEVENT
BEGIN:VTIMEZONE
TZID:America/New_York
X-LIC-LOCATION:America/New_York
BEGIN:DAYLIGHT
DTSTART:20220313T030000
TZOFFSETFROM:-0500
TZOFFSETTO:-0400
TZNAME:EDT
END:DAYLIGHT
END:VTIMEZONE
END:VCALENDAR