BEGIN:VCALENDAR
VERSION:2.0
PRODID:-//wp-events-plugin.com//7.2.3.1//EN
TZID:America/New_York
X-WR-TIMEZONE:America/New_York
BEGIN:VEVENT
UID:41@newgagolf.com
DTSTART;TZID=America/New_York;VALUE=DATE:20220629
DTEND;TZID=America/New_York;VALUE=DATE:20220630
DTSTAMP:20220620T103054Z
URL:https://newgagolf.com/events/team-play-one-gross-one-net-four/
SUMMARY:Team Play (One Gross\, One Net of Four)
DESCRIPTION:FORMAT: Team of 4  stroke play\, one best gross and one best n
 et (may not be the same player).  Flighted\n\nHANDICAPS: Certified within
  two weeks of the event\n\nNO REFUNDS WITHIN SEVEN DAYS OF THE TOURNAMENT\
 n\nDEFENDING CHAMPIONS:  1st Low Gross: S Kahler\, M Assey\, R Andrews\, 
 M Scatena\n\n2nd Low Gross: P Laime\, A Laime\, G Castelli\, H  Harkins
CATEGORIES:Tournaments
LOCATION:THUNDERHART GOLF COURSE\, 2740 County Route 67\, Freehold\, NY\, 1
 2431\, United States
X-APPLE-STRUCTURED-LOCATION;VALUE=URI;X-ADDRESS=2740 County Route 67\, Free
 hold\, NY\, 12431\, United States;X-APPLE-RADIUS=100;X-TITLE=THUNDERHART G
 OLF COURSE:geo:0,0
END:VEVENT
BEGIN:VTIMEZONE
TZID:America/New_York
X-LIC-LOCATION:America/New_York
BEGIN:DAYLIGHT
DTSTART:20220313T030000
TZOFFSETFROM:-0500
TZOFFSETTO:-0400
TZNAME:EDT
END:DAYLIGHT
END:VTIMEZONE
END:VCALENDAR