BEGIN:VCALENDAR
VERSION:2.0
PRODID:-//wp-events-plugin.com//7.2.3.1//EN
TZID:America/New_York
X-WR-TIMEZONE:America/New_York
BEGIN:VEVENT
UID:31@newgagolf.com
DTSTART;TZID=America/New_York:20210707T083000
DTEND;TZID=America/New_York:20210707T143000
DTSTAMP:20210706T172942Z
URL:https://newgagolf.com/events/team-play-one-gross-one-net/
SUMMARY:Team Play (One Gross\, One Net of Four)
DESCRIPTION:FORMAT: Team of 4  stroke play\, one best gross and one best n
 et (may not be the same player).  Flighted\n\nHANDICAPS: Certified as of 
 June 28\, 2021\n\nNO REFUNDS WITHIN SEVEN DAYS OF THE TOURNAMENT\n\nDEFEND
 ING CHAMPIONS:  NEW Event\n\n&nbsp\;
CATEGORIES:Open Events on Home Page,Tournaments
LOCATION:MCGREGOR LINKS COUNTRY CLUB\, 59 Northern Pines Rd\, Wilton\, NY\,
  12831\, United States
X-APPLE-STRUCTURED-LOCATION;VALUE=URI;X-ADDRESS=59 Northern Pines Rd\, Wilt
 on\, NY\, 12831\, United States;X-APPLE-RADIUS=100;X-TITLE=MCGREGOR LINKS 
 COUNTRY CLUB:geo:0,0
END:VEVENT
BEGIN:VTIMEZONE
TZID:America/New_York
X-LIC-LOCATION:America/New_York
BEGIN:DAYLIGHT
DTSTART:20210314T030000
TZOFFSETFROM:-0500
TZOFFSETTO:-0400
TZNAME:EDT
END:DAYLIGHT
END:VTIMEZONE
END:VCALENDAR