BEGIN:VCALENDAR
VERSION:2.0
PRODID:-//wp-events-plugin.com//7.2.3.1//EN
TZID:America/New_York
X-WR-TIMEZONE:America/New_York
BEGIN:VEVENT
UID:33@newgagolf.com
DTSTART;TZID=America/New_York;VALUE=DATE:20210727
DTEND;TZID=America/New_York;VALUE=DATE:20210729
DTSTAMP:20210728T212246Z
URL:https://newgagolf.com/events/the-newga-championship-2/
SUMMARY:The NEWGA Championship
DESCRIPTION:FORMAT: 36 Hole\, Individual Stroke Play.  Flighted\n\nTEE Tim
 es\n\nHANDICAPS: Certified as of July 17\, 2021\n\nNO REFUNDS WITHIN SEVEN
  DAYS OF THE TOURNAMENT\n\nDEFENDING CHAMPION:\nChampion  Rachel Barlette
CATEGORIES:Tournaments
LOCATION:COLONIE GOLF & COUNTRY CLUB\, 141 Maple Rd\, Voorheesville\, NY\, 
 12186\, United States
X-APPLE-STRUCTURED-LOCATION;VALUE=URI;X-ADDRESS=141 Maple Rd\, Voorheesvill
 e\, NY\, 12186\, United States;X-APPLE-RADIUS=100;X-TITLE=COLONIE GOLF & C
 OUNTRY CLUB:geo:0,0
END:VEVENT
BEGIN:VTIMEZONE
TZID:America/New_York
X-LIC-LOCATION:America/New_York
BEGIN:DAYLIGHT
DTSTART:20210314T030000
TZOFFSETFROM:-0500
TZOFFSETTO:-0400
TZNAME:EDT
END:DAYLIGHT
END:VTIMEZONE
END:VCALENDAR