BEGIN:VCALENDAR
VERSION:2.0
PRODID:-//wp-events-plugin.com//7.2.3.1//EN
TZID:America/New_York
X-WR-TIMEZONE:America/New_York
BEGIN:VEVENT
UID:42@newgagolf.com
DTSTART;TZID=America/New_York;VALUE=DATE:20220719
DTEND;TZID=America/New_York;VALUE=DATE:20220721
DTSTAMP:20220710T113749Z
URL:https://newgagolf.com/events/the-newga-championship-3/
SUMMARY:The NEWGA Championship
DESCRIPTION:FORMAT: 36 Hole\, Individual Stroke Play.  Flighted\n\nTEE Tim
 es\n\nHANDICAPS: Certified within two weeks of the event\n\nNO REFUNDS WIT
 HIN SEVEN DAYS OF THE TOURNAMENT\n\nDEFENDING CHAMPION:\nChampion  Heidi 
 Harkins
CATEGORIES:Tournaments
LOCATION:BALLSTON SPA COUNTRY CLUB\, 1366 Amsterdam Rd\, Ballston Spa\, NY\
 , 12020\, United States
X-APPLE-STRUCTURED-LOCATION;VALUE=URI;X-ADDRESS=1366 Amsterdam Rd\, Ballsto
 n Spa\, NY\, 12020\, United States;X-APPLE-RADIUS=100;X-TITLE=BALLSTON SPA
  COUNTRY CLUB:geo:0,0
END:VEVENT
BEGIN:VTIMEZONE
TZID:America/New_York
X-LIC-LOCATION:America/New_York
BEGIN:DAYLIGHT
DTSTART:20220313T030000
TZOFFSETFROM:-0500
TZOFFSETTO:-0400
TZNAME:EDT
END:DAYLIGHT
END:VTIMEZONE
END:VCALENDAR