BEGIN:VCALENDAR
VERSION:2.0
PRODID:-//wp-events-plugin.com//7.2.3.1//EN
TZID:America/New_York
X-WR-TIMEZONE:America/New_York
BEGIN:VEVENT
UID:35@newgagolf.com
DTSTART;TZID=America/New_York:20210908T090000
DTEND;TZID=America/New_York:20210908T150000
DTSTAMP:20210824T211031Z
URL:https://newgagolf.com/events/two-player-scramble-2/
SUMMARY:Two Player Scramble
DESCRIPTION:FORMAT: Two Player Scramble\; max handicap index diff. between 
 partners is 10\n\nHANDICAPS: Certified as of August 9\, 2021\n\nNO REFUNDS
  WITHIN SEVEN DAYS OF THE TOURNAMENT\n\nDEFENDING CHAMPIONS:\nLow Gross: P
 . Mayne\, S. Chambers\nLow Net: M. Kruchinski\, C. McKnight
CATEGORIES:Open Events on Home Page,Tournaments
LOCATION:COBLESKILL GOLF & COUNTRY CLUB\, 2322 New York 7\, Cobleskill\, NY
 \, 12043\, United States
X-APPLE-STRUCTURED-LOCATION;VALUE=URI;X-ADDRESS=2322 New York 7\, Cobleskil
 l\, NY\, 12043\, United States;X-APPLE-RADIUS=100;X-TITLE=COBLESKILL GOLF 
 & COUNTRY CLUB:geo:0,0
END:VEVENT
BEGIN:VTIMEZONE
TZID:America/New_York
X-LIC-LOCATION:America/New_York
BEGIN:DAYLIGHT
DTSTART:20210314T030000
TZOFFSETFROM:-0500
TZOFFSETTO:-0400
TZNAME:EDT
END:DAYLIGHT
END:VTIMEZONE
END:VCALENDAR