BEGIN:VCALENDAR
VERSION:2.0
PRODID:-//wp-events-plugin.com//7.2.3.1//EN
TZID:America/New_York
X-WR-TIMEZONE:America/New_York
BEGIN:VEVENT
UID:52@newgagolf.com
DTSTART;TZID=America/New_York:20230617T090000
DTEND;TZID=America/New_York:20230617T150000
DTSTAMP:20230608T133125Z
URL:https://newgagolf.com/events/two-player-scramble-4/
SUMMARY:Two-Player Scramble
DESCRIPTION:FORMAT: Two-Player Scramble\;  each player's drive must be use
 d at least twice on each nine holes\n\nMax handicap index differential bet
 ween players is 10\n\nHANDICAPS: Certified within two weeks of the event\n
 \nNO REFUNDS WITHIN SEVEN DAYS OF THE TOURNAMENT\n\nDEFENDING CHAMPIONS:\n
 Low Gross: H Harkins\, K Harkins\nLow Net:    B St Denis\, Cindi Keeler
CATEGORIES:Tournaments
LOCATION:CANAJOHARIE GOLF AND COUNTRY CLUB\, 154 Golf Club Road\, Canajohar
 ie\, NY\, 13317\, United States
X-APPLE-STRUCTURED-LOCATION;VALUE=URI;X-ADDRESS=154 Golf Club Road\, Canajo
 harie\, NY\, 13317\, United States;X-APPLE-RADIUS=100;X-TITLE=CANAJOHARIE 
 GOLF AND COUNTRY CLUB:geo:0,0
END:VEVENT
BEGIN:VTIMEZONE
TZID:America/New_York
X-LIC-LOCATION:America/New_York
BEGIN:DAYLIGHT
DTSTART:20230312T030000
TZOFFSETFROM:-0500
TZOFFSETTO:-0400
TZNAME:EDT
END:DAYLIGHT
END:VTIMEZONE
END:VCALENDAR